BEGIN:VCALENDAR
VERSION:2.0
PRODID:-//eventon.com NONSGML v1.0//EN
BEGIN:VEVENT
UID:69e74390ef8a2
DTSTAMP:20260421T112952
DTSTART:20250816T020000Z
DTEND:20250818T020000Z
TZID:Pacific/Midway
LOCATION:
SUMMARY:Vereinsheim belegt - priv. Familienfeier
DESCRIPTION: Buchung Vereinsheim KGV &#8220;Elbaue&#8221; e.V. Heidenau\nhttps://kgv-elbaue-heidenau.de/events/vereinsheim-belegt-priv-familienfeier-63
URL:https://kgv-elbaue-heidenau.de/events/vereinsheim-belegt-priv-familienfeier-63
END:VEVENT
END:VCALENDAR