BEGIN:VCALENDAR
VERSION:2.0
PRODID:-//eventon.com NONSGML v1.0//EN
BEGIN:VEVENT
UID:69e89551e46da
DTSTAMP:20260422T113057
DTSTART:20250426T200000Z
DTEND:20250427T020000Z
TZID:Pacific/Midway
LOCATION:
SUMMARY:Frühjahrsputz am Komposthaufen unseres Vereines
DESCRIPTION: Sonderarbeitseinsatz in drei Arbeitsgruppen\nhttps://kgv-elbaue-heidenau.de/events/fruehjahrsputz-am-komposthaufen-unseres-vereines
URL:https://kgv-elbaue-heidenau.de/events/fruehjahrsputz-am-komposthaufen-unseres-vereines
END:VEVENT
END:VCALENDAR