BEGIN:VCALENDAR
VERSION:2.0
PRODID:-//eventon.com NONSGML v1.0//EN
BEGIN:VEVENT
UID:69e89551e52e0
DTSTAMP:20260422T113057
DTSTART:20240707T020000Z
DTEND:20240708T010000Z
TZID:Pacific/Midway
LOCATION:
SUMMARY:Sommerfest KGV Elbaue 2024
DESCRIPTION: Gemütliches Beisammensein.\nhttps://kgv-elbaue-heidenau.de/events/vereinsfest-2024
URL:https://kgv-elbaue-heidenau.de/events/vereinsfest-2024
END:VEVENT
END:VCALENDAR