BEGIN:VCALENDAR
VERSION:2.0
PRODID:-//eventon.com NONSGML v1.0//EN
BEGIN:VEVENT
UID:69e8965c4b47f
DTSTAMP:20260422T113524
DTSTART:20210625T150000Z
DTEND:20210627T120000Z
TZID:UTC
LOCATION:
SUMMARY:Vereinsheim belegt - priv. Familienfeier
DESCRIPTION: Vermietung unseres Vereinsheimes für priv. Veranstaltungen/ Familienfeiern.\nhttps://kgv-elbaue-heidenau.de/events/vereinsheim-belegt-priv-familienfeier-18
URL:https://kgv-elbaue-heidenau.de/events/vereinsheim-belegt-priv-familienfeier-18
END:VEVENT
END:VCALENDAR